BEGIN:VCALENDAR
VERSION:2.0
PRODID:-//Truro Pride - ECPv6.15.20//NONSGML v1.0//EN
CALSCALE:GREGORIAN
METHOD:PUBLISH
X-WR-CALNAME:Truro Pride
X-ORIGINAL-URL:https://truropride.ca
X-WR-CALDESC:Events for Truro Pride
REFRESH-INTERVAL;VALUE=DURATION:PT1H
X-Robots-Tag:noindex
X-PUBLISHED-TTL:PT1H
BEGIN:VTIMEZONE
TZID:America/Halifax
BEGIN:DAYLIGHT
TZOFFSETFROM:-0400
TZOFFSETTO:-0300
TZNAME:ADT
DTSTART:20240310T060000
END:DAYLIGHT
BEGIN:STANDARD
TZOFFSETFROM:-0300
TZOFFSETTO:-0400
TZNAME:AST
DTSTART:20241103T050000
END:STANDARD
BEGIN:DAYLIGHT
TZOFFSETFROM:-0400
TZOFFSETTO:-0300
TZNAME:ADT
DTSTART:20250309T060000
END:DAYLIGHT
BEGIN:STANDARD
TZOFFSETFROM:-0300
TZOFFSETTO:-0400
TZNAME:AST
DTSTART:20251102T050000
END:STANDARD
BEGIN:DAYLIGHT
TZOFFSETFROM:-0400
TZOFFSETTO:-0300
TZNAME:ADT
DTSTART:20260308T060000
END:DAYLIGHT
BEGIN:STANDARD
TZOFFSETFROM:-0300
TZOFFSETTO:-0400
TZNAME:AST
DTSTART:20261101T050000
END:STANDARD
END:VTIMEZONE
BEGIN:VEVENT
DTSTART;TZID=America/Halifax:20250622T110000
DTEND;TZID=America/Halifax:20250622T120000
DTSTAMP:20260422T072532
CREATED:20250605T152559Z
LAST-MODIFIED:20250605T152603Z
UID:1457-1750590000-1750593600@truropride.ca
SUMMARY:Pride Worship Service
DESCRIPTION:St. Andrew’s United Church invites you to attend a Pride Worship Service on Sunday\, June 22nd at 11am! \nThis service will be entirely focused around disrupting homophobia and transphobia\, and affirming and celebrating 2SLGBTQIA+ people. All are welcome!
URL:https://truropride.ca/event/pride-worship-service-2
LOCATION:St. Andrew’s United Church\, 55 King St\, Truro\, Nova Scotia\, Canada
ORGANIZER;CN="St. Andrews United Church":MAILTO:officestandrews@eastlink.ca
END:VEVENT
END:VCALENDAR