BEGIN:VCALENDAR
VERSION:2.0
PRODID:-//Truro Pride - ECPv6.15.20//NONSGML v1.0//EN
CALSCALE:GREGORIAN
METHOD:PUBLISH
X-WR-CALNAME:Truro Pride
X-ORIGINAL-URL:https://truropride.ca
X-WR-CALDESC:Events for Truro Pride
REFRESH-INTERVAL;VALUE=DURATION:PT1H
X-Robots-Tag:noindex
X-PUBLISHED-TTL:PT1H
BEGIN:VTIMEZONE
TZID:America/Halifax
BEGIN:DAYLIGHT
TZOFFSETFROM:-0400
TZOFFSETTO:-0300
TZNAME:ADT
DTSTART:20210314T060000
END:DAYLIGHT
BEGIN:STANDARD
TZOFFSETFROM:-0300
TZOFFSETTO:-0400
TZNAME:AST
DTSTART:20211107T050000
END:STANDARD
BEGIN:DAYLIGHT
TZOFFSETFROM:-0400
TZOFFSETTO:-0300
TZNAME:ADT
DTSTART:20220313T060000
END:DAYLIGHT
BEGIN:STANDARD
TZOFFSETFROM:-0300
TZOFFSETTO:-0400
TZNAME:AST
DTSTART:20221106T050000
END:STANDARD
BEGIN:DAYLIGHT
TZOFFSETFROM:-0400
TZOFFSETTO:-0300
TZNAME:ADT
DTSTART:20230312T060000
END:DAYLIGHT
BEGIN:STANDARD
TZOFFSETFROM:-0300
TZOFFSETTO:-0400
TZNAME:AST
DTSTART:20231105T050000
END:STANDARD
END:VTIMEZONE
BEGIN:VEVENT
DTSTART;TZID=America/Halifax:20220518T173000
DTEND;TZID=America/Halifax:20220518T193000
DTSTAMP:20260422T191023
CREATED:20220511T142829Z
LAST-MODIFIED:20220511T142829Z
UID:302-1652895000-1652902200@truropride.ca
SUMMARY:Truro Pride Social
DESCRIPTION:Let’s get Social! \nJoin us for our first 2SLGBTQIA+ social since 2020 \nWednesday May 18th @ Truro Brewing Company \n5:30-7:30 PM
URL:https://truropride.ca/event/truro-pride-social
LOCATION:Truro Brewing Company\, 53 Inglis Pl\, Truro\, Nova Scotia\, B2N 4B5\, Canada
END:VEVENT
END:VCALENDAR