BEGIN:VCALENDAR
VERSION:2.0
PRODID:-//Truro Pride - ECPv6.15.20//NONSGML v1.0//EN
CALSCALE:GREGORIAN
METHOD:PUBLISH
X-WR-CALNAME:Truro Pride
X-ORIGINAL-URL:https://truropride.ca
X-WR-CALDESC:Events for Truro Pride
REFRESH-INTERVAL;VALUE=DURATION:PT1H
X-Robots-Tag:noindex
X-PUBLISHED-TTL:PT1H
BEGIN:VTIMEZONE
TZID:America/Halifax
BEGIN:DAYLIGHT
TZOFFSETFROM:-0400
TZOFFSETTO:-0300
TZNAME:ADT
DTSTART:20240310T060000
END:DAYLIGHT
BEGIN:STANDARD
TZOFFSETFROM:-0300
TZOFFSETTO:-0400
TZNAME:AST
DTSTART:20241103T050000
END:STANDARD
BEGIN:DAYLIGHT
TZOFFSETFROM:-0400
TZOFFSETTO:-0300
TZNAME:ADT
DTSTART:20250309T060000
END:DAYLIGHT
BEGIN:STANDARD
TZOFFSETFROM:-0300
TZOFFSETTO:-0400
TZNAME:AST
DTSTART:20251102T050000
END:STANDARD
BEGIN:DAYLIGHT
TZOFFSETFROM:-0400
TZOFFSETTO:-0300
TZNAME:ADT
DTSTART:20260308T060000
END:DAYLIGHT
BEGIN:STANDARD
TZOFFSETFROM:-0300
TZOFFSETTO:-0400
TZNAME:AST
DTSTART:20261101T050000
END:STANDARD
END:VTIMEZONE
BEGIN:VEVENT
DTSTART;TZID=America/Halifax:20250426T180000
DTEND;TZID=America/Halifax:20250426T220000
DTSTAMP:20260421T090517
CREATED:20250409T232035Z
LAST-MODIFIED:20250422T150953Z
UID:1280-1745690400-1745704800@truropride.ca
SUMMARY:Queer Sphere - Debert
DESCRIPTION:Come join Queer Sphere for a night of community!
URL:https://truropride.ca/event/queer-sphere-debert
LOCATION:The Lodge – Debert\, 1191 Plains Rd\, Debert\, Nova Scotia\, Canada
END:VEVENT
END:VCALENDAR