BEGIN:VCALENDAR
VERSION:2.0
PRODID:-//Truro Pride - ECPv6.15.20//NONSGML v1.0//EN
CALSCALE:GREGORIAN
METHOD:PUBLISH
X-WR-CALNAME:Truro Pride
X-ORIGINAL-URL:https://truropride.ca
X-WR-CALDESC:Events for Truro Pride
REFRESH-INTERVAL;VALUE=DURATION:PT1H
X-Robots-Tag:noindex
X-PUBLISHED-TTL:PT1H
BEGIN:VTIMEZONE
TZID:America/Halifax
BEGIN:DAYLIGHT
TZOFFSETFROM:-0400
TZOFFSETTO:-0300
TZNAME:ADT
DTSTART:20240310T060000
END:DAYLIGHT
BEGIN:STANDARD
TZOFFSETFROM:-0300
TZOFFSETTO:-0400
TZNAME:AST
DTSTART:20241103T050000
END:STANDARD
BEGIN:DAYLIGHT
TZOFFSETFROM:-0400
TZOFFSETTO:-0300
TZNAME:ADT
DTSTART:20250309T060000
END:DAYLIGHT
BEGIN:STANDARD
TZOFFSETFROM:-0300
TZOFFSETTO:-0400
TZNAME:AST
DTSTART:20251102T050000
END:STANDARD
BEGIN:DAYLIGHT
TZOFFSETFROM:-0400
TZOFFSETTO:-0300
TZNAME:ADT
DTSTART:20260308T060000
END:DAYLIGHT
BEGIN:STANDARD
TZOFFSETFROM:-0300
TZOFFSETTO:-0400
TZNAME:AST
DTSTART:20261101T050000
END:STANDARD
END:VTIMEZONE
BEGIN:VEVENT
DTSTART;TZID=America/Halifax:20250524T180000
DTEND;TZID=America/Halifax:20250524T220000
DTSTAMP:20260421T072758
CREATED:20250505T144420Z
LAST-MODIFIED:20250505T144420Z
UID:1367-1748109600-1748124000@truropride.ca
SUMMARY:May Queer Sphere
DESCRIPTION:Join us at Queer Sphere at the Debert Lodge! May 24th from 6pm – 10pm!
URL:https://truropride.ca/event/may-queer-sphere
LOCATION:The Lodge – Debert\, 1191 Plains Rd\, Debert\, Nova Scotia\, Canada
END:VEVENT
BEGIN:VEVENT
DTSTART;TZID=America/Halifax:20250530T100000
DTEND;TZID=America/Halifax:20250530T113000
DTSTAMP:20260421T072758
CREATED:20250505T143855Z
LAST-MODIFIED:20250505T143855Z
UID:1362-1748599200-1748604600@truropride.ca
SUMMARY:Quarterly Truro Pride Brunch - Pride Updates!
DESCRIPTION:Join us from 10:00 am to 11:30 am at the RECC for some light refreshments! We will be chatting about Truro Pride updates specific to Pride 2025 planning! \nHope to see you there!
URL:https://truropride.ca/event/quarterly-truro-pride-brunch-pride-updates
LOCATION:Rath Eastlink Community Centre\, 625 Abenaki Rd\, Truro\, Nova Scotia\, Canada
ORGANIZER;CN="Truro Pride":MAILTO:info@truropride.ca
END:VEVENT
END:VCALENDAR